BEGIN:VCALENDAR
VERSION:2.0
PRODID:-//Penn IRB - ECPv6.15.20//NONSGML v1.0//EN
CALSCALE:GREGORIAN
METHOD:PUBLISH
X-ORIGINAL-URL:https://irb.upenn.edu
X-WR-CALDESC:Events for Penn IRB
REFRESH-INTERVAL;VALUE=DURATION:PT1H
X-Robots-Tag:noindex
X-PUBLISHED-TTL:PT1H
BEGIN:VTIMEZONE
TZID:UTC
BEGIN:STANDARD
TZOFFSETFROM:+0000
TZOFFSETTO:+0000
TZNAME:UTC
DTSTART:20220101T000000
END:STANDARD
END:VTIMEZONE
BEGIN:VEVENT
DTSTART;TZID=UTC:20230606T160000
DTEND;TZID=UTC:20230606T180000
DTSTAMP:20260424T022929
CREATED:20230315T175800Z
LAST-MODIFIED:20230316T040022Z
UID:2842-1686067200-1686074400@irb.upenn.edu
SUMMARY:IRB 6
DESCRIPTION:Video Conferencing/Cheston Conf. Room\, Pennsylvania Hospital
URL:https://irb.upenn.edu/event/irb-6-5/
CATEGORIES:IRB Meetings
END:VEVENT
END:VCALENDAR