BEGIN:VCALENDAR
VERSION:2.0
PRODID:-//Penn IRB - ECPv6.15.17.1//NONSGML v1.0//EN
CALSCALE:GREGORIAN
METHOD:PUBLISH
X-WR-CALNAME:Penn IRB
X-ORIGINAL-URL:https://irb.upenn.edu
X-WR-CALDESC:Events for Penn IRB
REFRESH-INTERVAL;VALUE=DURATION:PT1H
X-Robots-Tag:noindex
X-PUBLISHED-TTL:PT1H
BEGIN:VTIMEZONE
TZID:America/New_York
BEGIN:DAYLIGHT
TZOFFSETFROM:-0500
TZOFFSETTO:-0400
TZNAME:EDT
DTSTART:20240310T070000
END:DAYLIGHT
BEGIN:STANDARD
TZOFFSETFROM:-0400
TZOFFSETTO:-0500
TZNAME:EST
DTSTART:20241103T060000
END:STANDARD
BEGIN:DAYLIGHT
TZOFFSETFROM:-0500
TZOFFSETTO:-0400
TZNAME:EDT
DTSTART:20250309T070000
END:DAYLIGHT
BEGIN:STANDARD
TZOFFSETFROM:-0400
TZOFFSETTO:-0500
TZNAME:EST
DTSTART:20251102T060000
END:STANDARD
BEGIN:DAYLIGHT
TZOFFSETFROM:-0500
TZOFFSETTO:-0400
TZNAME:EDT
DTSTART:20260308T070000
END:DAYLIGHT
BEGIN:STANDARD
TZOFFSETFROM:-0400
TZOFFSETTO:-0500
TZNAME:EST
DTSTART:20261101T060000
END:STANDARD
END:VTIMEZONE
BEGIN:VEVENT
DTSTART;TZID=America/New_York:20250312T120000
DTEND;TZID=America/New_York:20250312T130000
DTSTAMP:20260420T053239
CREATED:20250213T190451Z
LAST-MODIFIED:20250213T190451Z
UID:4514-1741780800-1741784400@irb.upenn.edu
SUMMARY:SPCRP & IRB Present: Emergency Preparedness in Human Research
DESCRIPTION:This session will provide an overview of the Response Plan for Emergencies Impacting Penn’s Human Research Protections Program (Penn IRB SOP GA 108) to ensure the rights and welfare of research participants during an emergency. This session will also review the Emergency Risk Mitigation Planning Guidance providing investigators with guidance for developing protocol-specific plans to modify research during an emergency/disaster situation. \n  \nPresented through Society for the Penn Clinical Research Professionals (SPCRP) SCOOPS Educational Webinar Series.
URL:https://irb.upenn.edu/event/emergency-preparedness/
LOCATION:Zoom
CATEGORIES:Educational Series
END:VEVENT
END:VCALENDAR