BEGIN:VCALENDAR
VERSION:2.0
PRODID:-//Penn IRB - ECPv6.15.20//NONSGML v1.0//EN
CALSCALE:GREGORIAN
METHOD:PUBLISH
X-WR-CALNAME:Penn IRB
X-ORIGINAL-URL:https://irb.upenn.edu
X-WR-CALDESC:Events for Penn IRB
REFRESH-INTERVAL;VALUE=DURATION:PT1H
X-Robots-Tag:noindex
X-PUBLISHED-TTL:PT1H
BEGIN:VTIMEZONE
TZID:America/New_York
BEGIN:DAYLIGHT
TZOFFSETFROM:-0500
TZOFFSETTO:-0400
TZNAME:EDT
DTSTART:20250309T070000
END:DAYLIGHT
BEGIN:STANDARD
TZOFFSETFROM:-0400
TZOFFSETTO:-0500
TZNAME:EST
DTSTART:20251102T060000
END:STANDARD
BEGIN:DAYLIGHT
TZOFFSETFROM:-0500
TZOFFSETTO:-0400
TZNAME:EDT
DTSTART:20260308T070000
END:DAYLIGHT
BEGIN:STANDARD
TZOFFSETFROM:-0400
TZOFFSETTO:-0500
TZNAME:EST
DTSTART:20261101T060000
END:STANDARD
BEGIN:DAYLIGHT
TZOFFSETFROM:-0500
TZOFFSETTO:-0400
TZNAME:EDT
DTSTART:20270314T070000
END:DAYLIGHT
BEGIN:STANDARD
TZOFFSETFROM:-0400
TZOFFSETTO:-0500
TZNAME:EST
DTSTART:20271107T060000
END:STANDARD
END:VTIMEZONE
BEGIN:VEVENT
DTSTART;TZID=America/New_York:20260122T120000
DTEND;TZID=America/New_York:20260122T130000
DTSTAMP:20260423T235945
CREATED:20251217T214449Z
LAST-MODIFIED:20251219T182325Z
UID:5011-1769083200-1769086800@irb.upenn.edu
SUMMARY:eIRB Townhall
DESCRIPTION:Agenda \n\nDiscuss updates on eIRB launch\nRevisit procedures for new annual check-in process\nRevisit new policy on automatic study closures\nRevisit guidance on active human research protocols migrated to the new eIRB system.\n\nRevisit required quality assurance during the first submission of a migrated study in eIRB
URL:https://irb.upenn.edu/event/eirb-townhall/
LOCATION:Zoom
CATEGORIES:eIRB Interactive Sessions
END:VEVENT
END:VCALENDAR