BEGIN:VCALENDAR
VERSION:2.0
PRODID:-//Penn IRB - ECPv6.15.20//NONSGML v1.0//EN
CALSCALE:GREGORIAN
METHOD:PUBLISH
X-ORIGINAL-URL:https://irb.upenn.edu
X-WR-CALDESC:Events for Penn IRB
REFRESH-INTERVAL;VALUE=DURATION:PT1H
X-Robots-Tag:noindex
X-PUBLISHED-TTL:PT1H
BEGIN:VTIMEZONE
TZID:America/New_York
BEGIN:DAYLIGHT
TZOFFSETFROM:-0500
TZOFFSETTO:-0400
TZNAME:EDT
DTSTART:20260308T070000
END:DAYLIGHT
BEGIN:STANDARD
TZOFFSETFROM:-0400
TZOFFSETTO:-0500
TZNAME:EST
DTSTART:20261101T060000
END:STANDARD
BEGIN:DAYLIGHT
TZOFFSETFROM:-0500
TZOFFSETTO:-0400
TZNAME:EDT
DTSTART:20270314T070000
END:DAYLIGHT
BEGIN:STANDARD
TZOFFSETFROM:-0400
TZOFFSETTO:-0500
TZNAME:EST
DTSTART:20271107T060000
END:STANDARD
BEGIN:DAYLIGHT
TZOFFSETFROM:-0500
TZOFFSETTO:-0400
TZNAME:EDT
DTSTART:20280312T070000
END:DAYLIGHT
BEGIN:STANDARD
TZOFFSETFROM:-0400
TZOFFSETTO:-0500
TZNAME:EST
DTSTART:20281105T060000
END:STANDARD
END:VTIMEZONE
BEGIN:VEVENT
DTSTART;TZID=America/New_York:20270121T114500
DTEND;TZID=America/New_York:20270121T134500
DTSTAMP:20260423T050411
CREATED:20260210T190840Z
LAST-MODIFIED:20260210T190840Z
UID:5638-1800531900-1800539100@irb.upenn.edu
SUMMARY:IRB 2
DESCRIPTION:Video Conferencing/Human Research Protections Program Office of the Institutional Review Board 3600 Civic Center Blvd\, 9th Floor
URL:https://irb.upenn.edu/event/irb-2-49/
CATEGORIES:IRB Meetings
END:VEVENT
BEGIN:VEVENT
DTSTART;TZID=America/New_York:20270126T120000
DTEND;TZID=America/New_York:20270126T140000
DTSTAMP:20260423T050411
CREATED:20260210T192326Z
LAST-MODIFIED:20260210T192326Z
UID:5652-1800964800-1800972000@irb.upenn.edu
SUMMARY:IRB 10
DESCRIPTION:Video Conferencing/Lancaster General Hospital 555 North Duke St Lancaster\, PA 17602
URL:https://irb.upenn.edu/event/irb-10-32/
CATEGORIES:IRB Meetings
END:VEVENT
BEGIN:VEVENT
DTSTART;TZID=America/New_York:20270127T120000
DTEND;TZID=America/New_York:20270127T140000
DTSTAMP:20260423T050411
CREATED:20260210T191019Z
LAST-MODIFIED:20260210T191019Z
UID:5644-1801051200-1801058400@irb.upenn.edu
SUMMARY:IRB 5
DESCRIPTION:Video Conferencing/Human Research Protections Program Office of the Institutional Review Board 3600 Civic Center Blvd\, 9th Floor
URL:https://irb.upenn.edu/event/irb-5-47/
CATEGORIES:IRB Meetings
END:VEVENT
END:VCALENDAR