BEGIN:VCALENDAR
VERSION:2.0
PRODID:-//Penn IRB - ECPv6.15.20//NONSGML v1.0//EN
CALSCALE:GREGORIAN
METHOD:PUBLISH
X-ORIGINAL-URL:https://irb.upenn.edu
X-WR-CALDESC:Events for Penn IRB
REFRESH-INTERVAL;VALUE=DURATION:PT1H
X-Robots-Tag:noindex
X-PUBLISHED-TTL:PT1H
BEGIN:VTIMEZONE
TZID:America/New_York
BEGIN:DAYLIGHT
TZOFFSETFROM:-0500
TZOFFSETTO:-0400
TZNAME:EDT
DTSTART:20230312T070000
END:DAYLIGHT
BEGIN:STANDARD
TZOFFSETFROM:-0400
TZOFFSETTO:-0500
TZNAME:EST
DTSTART:20231105T060000
END:STANDARD
BEGIN:DAYLIGHT
TZOFFSETFROM:-0500
TZOFFSETTO:-0400
TZNAME:EDT
DTSTART:20240310T070000
END:DAYLIGHT
BEGIN:STANDARD
TZOFFSETFROM:-0400
TZOFFSETTO:-0500
TZNAME:EST
DTSTART:20241103T060000
END:STANDARD
BEGIN:DAYLIGHT
TZOFFSETFROM:-0500
TZOFFSETTO:-0400
TZNAME:EDT
DTSTART:20250309T070000
END:DAYLIGHT
BEGIN:STANDARD
TZOFFSETFROM:-0400
TZOFFSETTO:-0500
TZNAME:EST
DTSTART:20251102T060000
END:STANDARD
END:VTIMEZONE
BEGIN:VEVENT
DTSTART;TZID=America/New_York:20240805T113000
DTEND;TZID=America/New_York:20240805T133000
DTSTAMP:20260425T070041
CREATED:20231212T203020Z
LAST-MODIFIED:20231212T203020Z
UID:3746-1722857400-1722864600@irb.upenn.edu
SUMMARY:IRB 1
DESCRIPTION:Video Conferencing/Human Research Protections Program Office of the Institutional Review Board 3600 Civic Center Blvd\, 9th Floor
URL:https://irb.upenn.edu/event/irb-1-20/
END:VEVENT
BEGIN:VEVENT
DTSTART;TZID=America/New_York:20240807T110000
DTEND;TZID=America/New_York:20240807T130000
DTSTAMP:20260425T070041
CREATED:20231214T224633Z
LAST-MODIFIED:20231214T224633Z
UID:3862-1723028400-1723035600@irb.upenn.edu
SUMMARY:IRB 7
DESCRIPTION:Video Conferencing/Human Research Protections Program Office of the Institutional Review Board 3600 Civic Center Blvd\, 9th Floor
URL:https://irb.upenn.edu/event/irb-7-20/
END:VEVENT
BEGIN:VEVENT
DTSTART;TZID=America/New_York:20240809T100000
DTEND;TZID=America/New_York:20240809T120000
DTSTAMP:20260425T070041
CREATED:20231214T223949Z
LAST-MODIFIED:20231214T223949Z
UID:3849-1723197600-1723204800@irb.upenn.edu
SUMMARY:IRB 3
DESCRIPTION:Video Conferencing/Human Research Protections Program Office of the Institutional Review Board 3600 Civic Center Blvd\, 9th Floor
URL:https://irb.upenn.edu/event/irb-3-19/
END:VEVENT
BEGIN:VEVENT
DTSTART;TZID=America/New_York:20240812T120000
DTEND;TZID=America/New_York:20240812T140000
DTSTAMP:20260425T070041
CREATED:20231212T210050Z
LAST-MODIFIED:20240801T141631Z
UID:3822-1723464000-1723471200@irb.upenn.edu
SUMMARY:IRB 8
DESCRIPTION:Video Conferencing/Human Research Protections Program Office of the Institutional Review Board 3600 Civic Center Blvd\, 9th Floor
URL:https://irb.upenn.edu/event/irb-8-19/
END:VEVENT
BEGIN:VEVENT
DTSTART;TZID=America/New_York:20240813T120000
DTEND;TZID=America/New_York:20240813T140000
DTSTAMP:20260425T070041
CREATED:20240812T225641Z
LAST-MODIFIED:20240812T225641Z
UID:4158-1723550400-1723557600@irb.upenn.edu
SUMMARY:IRB 10
DESCRIPTION:IRB 10\nVideo Conferencing/Lancaster General Hospital 555 North Duke St Lancaster\, PA 17602
URL:https://irb.upenn.edu/event/irb-10/
END:VEVENT
BEGIN:VEVENT
DTSTART;TZID=America/New_York:20240813T120000
DTEND;TZID=America/New_York:20240813T140000
DTSTAMP:20260425T070041
CREATED:20240813T135508Z
LAST-MODIFIED:20240813T135508Z
UID:4156-1723550400-1723557600@irb.upenn.edu
SUMMARY:IRB 10
DESCRIPTION:Video Conferencing/Lancaster General Hospital 555 North Duke St Lancaster\, PA 17602
URL:https://irb.upenn.edu/event/irb-10-2/
END:VEVENT
BEGIN:VEVENT
DTSTART;TZID=America/New_York:20240813T160000
DTEND;TZID=America/New_York:20240813T180000
DTSTAMP:20260425T070041
CREATED:20231212T202103Z
LAST-MODIFIED:20231212T202103Z
UID:3726-1723564800-1723572000@irb.upenn.edu
SUMMARY:IRB 6
DESCRIPTION:Video Conferencing/Cheston Conf. Room\, Pennsylvania Hospital
URL:https://irb.upenn.edu/event/irb-6-19/
END:VEVENT
BEGIN:VEVENT
DTSTART;TZID=America/New_York:20240820T104500
DTEND;TZID=America/New_York:20240820T124500
DTSTAMP:20260425T070041
CREATED:20231214T225503Z
LAST-MODIFIED:20231214T225503Z
UID:3885-1724150700-1724157900@irb.upenn.edu
SUMMARY:IRB 4
DESCRIPTION:Video Conferencing/Human Research Protections Program Office of the Institutional Review Board 3600 Civic Center Blvd\, 9th Floor
URL:https://irb.upenn.edu/event/irb-4-16/
END:VEVENT
BEGIN:VEVENT
DTSTART;TZID=America/New_York:20240822T114500
DTEND;TZID=America/New_York:20240822T134500
DTSTAMP:20260425T070041
CREATED:20231214T223538Z
LAST-MODIFIED:20231214T223538Z
UID:3837-1724327100-1724334300@irb.upenn.edu
SUMMARY:IRB 2
DESCRIPTION:Video Conferencing/Human Research Protections Program Office of the Institutional Review Board 3600 Civic Center Blvd\, 9th Floor
URL:https://irb.upenn.edu/event/irb-2-20/
END:VEVENT
BEGIN:VEVENT
DTSTART;TZID=America/New_York:20240828T120000
DTEND;TZID=America/New_York:20240828T140000
DTSTAMP:20260425T070041
CREATED:20231214T225004Z
LAST-MODIFIED:20231214T225004Z
UID:3874-1724846400-1724853600@irb.upenn.edu
SUMMARY:IRB 5
DESCRIPTION:Video Conferencing/Human Research Protections Program Office of the Institutional Review Board 3600 Civic Center Blvd\, 9th Floor
URL:https://irb.upenn.edu/event/irb-5-19/
END:VEVENT
END:VCALENDAR