BEGIN:VCALENDAR
VERSION:2.0
PRODID:-//Penn IRB - ECPv6.15.17.1//NONSGML v1.0//EN
CALSCALE:GREGORIAN
METHOD:PUBLISH
X-WR-CALNAME:Penn IRB
X-ORIGINAL-URL:https://irb.upenn.edu
X-WR-CALDESC:Events for Penn IRB
REFRESH-INTERVAL;VALUE=DURATION:PT1H
X-Robots-Tag:noindex
X-PUBLISHED-TTL:PT1H
BEGIN:VTIMEZONE
TZID:America/New_York
BEGIN:DAYLIGHT
TZOFFSETFROM:-0500
TZOFFSETTO:-0400
TZNAME:EDT
DTSTART:20240310T070000
END:DAYLIGHT
BEGIN:STANDARD
TZOFFSETFROM:-0400
TZOFFSETTO:-0500
TZNAME:EST
DTSTART:20241103T060000
END:STANDARD
BEGIN:DAYLIGHT
TZOFFSETFROM:-0500
TZOFFSETTO:-0400
TZNAME:EDT
DTSTART:20250309T070000
END:DAYLIGHT
BEGIN:STANDARD
TZOFFSETFROM:-0400
TZOFFSETTO:-0500
TZNAME:EST
DTSTART:20251102T060000
END:STANDARD
BEGIN:DAYLIGHT
TZOFFSETFROM:-0500
TZOFFSETTO:-0400
TZNAME:EDT
DTSTART:20260308T070000
END:DAYLIGHT
BEGIN:STANDARD
TZOFFSETFROM:-0400
TZOFFSETTO:-0500
TZNAME:EST
DTSTART:20261101T060000
END:STANDARD
END:VTIMEZONE
BEGIN:VEVENT
DTSTART;TZID=America/New_York:20250903T110000
DTEND;TZID=America/New_York:20250903T130000
DTSTAMP:20260420T151539
CREATED:20250610T213649Z
LAST-MODIFIED:20250610T213649Z
UID:4598-1756897200-1756904400@irb.upenn.edu
SUMMARY:IRB 7
DESCRIPTION:Video Conferencing/Human Research Protections Program Office of the Institutional Review Board 3600 Civic Center Blvd\, 9th Floor
URL:https://irb.upenn.edu/event/irb-7-33/
CATEGORIES:IRB Meetings
END:VEVENT
BEGIN:VEVENT
DTSTART;TZID=America/New_York:20250905T100000
DTEND;TZID=America/New_York:20250905T120000
DTSTAMP:20260420T151539
CREATED:20250220T132017Z
LAST-MODIFIED:20250220T132017Z
UID:4526-1757066400-1757073600@irb.upenn.edu
SUMMARY:IRB 3
DESCRIPTION:Video Conferencing/Human Research Protections Program Office of the Institutional Review Board 3600 Civic Center Blvd\, 9th Floor
URL:https://irb.upenn.edu/event/irb-3-32/
CATEGORIES:IRB Meetings
END:VEVENT
BEGIN:VEVENT
DTSTART;TZID=America/New_York:20250908T113000
DTEND;TZID=America/New_York:20250908T133000
DTSTAMP:20260420T151539
CREATED:20250220T131558Z
LAST-MODIFIED:20250220T131558Z
UID:4522-1757331000-1757338200@irb.upenn.edu
SUMMARY:IRB 1
DESCRIPTION:Video Conferencing/Human Research Protections Program Office of the Institutional Review Board 3600 Civic Center Blvd\, 9th Floor
URL:https://irb.upenn.edu/event/irb-1-33/
CATEGORIES:IRB Meetings
END:VEVENT
BEGIN:VEVENT
DTSTART;TZID=America/New_York:20250909T120000
DTEND;TZID=America/New_York:20250909T140000
DTSTAMP:20260420T151539
CREATED:20250610T214530Z
LAST-MODIFIED:20250610T214530Z
UID:4610-1757419200-1757426400@irb.upenn.edu
SUMMARY:IRB 10
DESCRIPTION:Video Conferencing/Lancaster General Hospital 555 North Duke St Lancaster\, PA 17602
URL:https://irb.upenn.edu/event/irb-10-16/
CATEGORIES:IRB Meetings
END:VEVENT
BEGIN:VEVENT
DTSTART;TZID=America/New_York:20250909T160000
DTEND;TZID=America/New_York:20250909T180000
DTSTAMP:20260420T151539
CREATED:20250610T214146Z
LAST-MODIFIED:20250610T214251Z
UID:4604-1757433600-1757440800@irb.upenn.edu
SUMMARY:IRB 6
DESCRIPTION:Video Conferencing/Cheston Conf. Room\, Pennsylvania Hospital
URL:https://irb.upenn.edu/event/irb-6-31/
CATEGORIES:IRB Meetings
END:VEVENT
BEGIN:VEVENT
DTSTART;TZID=America/New_York:20250910T120000
DTEND;TZID=America/New_York:20250910T130000
DTSTAMP:20260420T151539
CREATED:20250813T185152Z
LAST-MODIFIED:20250813T185554Z
UID:4691-1757505600-1757509200@irb.upenn.edu
SUMMARY:eIRB Townhall: System Updates
DESCRIPTION:Agenda \n\nLaunch Timeline & Planned Interactive Sessions\nTownhall Schedule\nLive Demo Schedule\nImportant Deadlines
URL:https://irb.upenn.edu/event/eirb-townhall-system-updates/
LOCATION:Zoom
CATEGORIES:eIRB Interactive Sessions
END:VEVENT
BEGIN:VEVENT
DTSTART;TZID=America/New_York:20250915T120000
DTEND;TZID=America/New_York:20250915T140000
DTSTAMP:20260420T151539
CREATED:20250610T214418Z
LAST-MODIFIED:20250610T214418Z
UID:4608-1757937600-1757944800@irb.upenn.edu
SUMMARY:IRB 8
DESCRIPTION:Video Conferencing/Human Research Protections Program Office of the Institutional Review Board 3600 Civic Center Blvd\, 9th Floor
URL:https://irb.upenn.edu/event/irb-8-32/
CATEGORIES:IRB Meetings
END:VEVENT
BEGIN:VEVENT
DTSTART;TZID=America/New_York:20250916T104500
DTEND;TZID=America/New_York:20250916T124500
DTSTAMP:20260420T151539
CREATED:20250610T213901Z
LAST-MODIFIED:20250610T213901Z
UID:4600-1758019500-1758026700@irb.upenn.edu
SUMMARY:IRB 4
DESCRIPTION:Video Conferencing/Human Research Protections Program Office of the Institutional Review Board 3600 Civic Center Blvd\, 9th Floor
URL:https://irb.upenn.edu/event/irb-4-31/
CATEGORIES:IRB Meetings
END:VEVENT
BEGIN:VEVENT
DTSTART;TZID=America/New_York:20250918T114500
DTEND;TZID=America/New_York:20250918T140000
DTSTAMP:20260420T151539
CREATED:20250220T131825Z
LAST-MODIFIED:20250220T131825Z
UID:4524-1758195900-1758204000@irb.upenn.edu
SUMMARY:IRB 2
DESCRIPTION:Video Conferencing/Human Research Protections Program Office of the Institutional Review Board 3600 Civic Center Blvd\, 9th Floor
URL:https://irb.upenn.edu/event/irb-2-33/
CATEGORIES:IRB Meetings
END:VEVENT
BEGIN:VEVENT
DTSTART;TZID=America/New_York:20250918T120000
DTEND;TZID=America/New_York:20250918T131500
DTSTAMP:20260420T151539
CREATED:20250813T184353Z
LAST-MODIFIED:20250813T185553Z
UID:4688-1758196800-1758201300@irb.upenn.edu
SUMMARY:eIRB Townhall: Protocol Migration Guide
DESCRIPTION:Agenda \n\nProvide guidance on active human research protocols migrated to the new eIRB system.\nOutline required quality assurance during the first submission of a migrated study in eIRB
URL:https://irb.upenn.edu/event/eirb-townhall-protocol-migration-guide/
LOCATION:Zoom
CATEGORIES:eIRB Interactive Sessions
END:VEVENT
BEGIN:VEVENT
DTSTART;TZID=America/New_York:20250924T120000
DTEND;TZID=America/New_York:20250924T140000
DTSTAMP:20260420T151539
CREATED:20250610T214028Z
LAST-MODIFIED:20250610T214028Z
UID:4602-1758715200-1758722400@irb.upenn.edu
SUMMARY:IRB 5
DESCRIPTION:Video Conferencing/Human Research Protections Program Office of the Institutional Review Board 3600 Civic Center Blvd\, 9th Floor
URL:https://irb.upenn.edu/event/irb-5-32/
CATEGORIES:IRB Meetings
END:VEVENT
BEGIN:VEVENT
DTSTART;TZID=America/New_York:20250925T120000
DTEND;TZID=America/New_York:20250925T133000
DTSTAMP:20260420T151539
CREATED:20250813T185824Z
LAST-MODIFIED:20250813T185911Z
UID:4693-1758801600-1758807000@irb.upenn.edu
SUMMARY:eIRB Townhall: Review of Policy Changes
DESCRIPTION:Agenda \n\nProcedures for new annual check-in process\nAutomatic study closures
URL:https://irb.upenn.edu/event/eirb-townhall-review-of-policy-changes/
LOCATION:Zoom
CATEGORIES:eIRB Interactive Sessions
END:VEVENT
BEGIN:VEVENT
DTSTART;TZID=America/New_York:20250925T140000
DTEND;TZID=America/New_York:20250925T153000
DTSTAMP:20260420T151539
CREATED:20250902T155354Z
LAST-MODIFIED:20250902T155849Z
UID:4735-1758808800-1758814200@irb.upenn.edu
SUMMARY:IRB 101: Biomedical Research
DESCRIPTION:If you are new to the IRB and in need of some guidance\, please attend an IRB 101 Training Session. \n  \nIRB staff will cover the basic types of submissions including initial applications\, continuing review\, modifications\, deviations\, and reportable events. \n  \nStaff will also provide brief information about the upcoming new submission system\, eIRB. However\, IRB 101 sessions will not be an eIRB training. Separate town halls and trainings will be held for eIRB. Please refer to the IRB Calendar for dates and more details. \n  \nTarget Audience: Penn Medicine and Penn Dental faculty\, research staff\, post docs\, and students. \n  \nAny questions can be directed to Diana Floegel\, Senior Regulatory Analyst and IRB 8 Chair\, at floegeld@upenn.edu. \n  \nSign up for the sessions here.
URL:https://irb.upenn.edu/event/biomedical-101/
LOCATION:Zoom
CATEGORIES:Educational Series
ORGANIZER;CN="Diana Floegel%2C PhD":MAILTO:floegeld@upenn.edu
END:VEVENT
END:VCALENDAR