BEGIN:VCALENDAR
VERSION:2.0
PRODID:-//Penn IRB - ECPv6.15.17.1//NONSGML v1.0//EN
CALSCALE:GREGORIAN
METHOD:PUBLISH
X-WR-CALNAME:Penn IRB
X-ORIGINAL-URL:https://irb.upenn.edu
X-WR-CALDESC:Events for Penn IRB
REFRESH-INTERVAL;VALUE=DURATION:PT1H
X-Robots-Tag:noindex
X-PUBLISHED-TTL:PT1H
BEGIN:VTIMEZONE
TZID:America/New_York
BEGIN:DAYLIGHT
TZOFFSETFROM:-0500
TZOFFSETTO:-0400
TZNAME:EDT
DTSTART:20240310T070000
END:DAYLIGHT
BEGIN:STANDARD
TZOFFSETFROM:-0400
TZOFFSETTO:-0500
TZNAME:EST
DTSTART:20241103T060000
END:STANDARD
BEGIN:DAYLIGHT
TZOFFSETFROM:-0500
TZOFFSETTO:-0400
TZNAME:EDT
DTSTART:20250309T070000
END:DAYLIGHT
BEGIN:STANDARD
TZOFFSETFROM:-0400
TZOFFSETTO:-0500
TZNAME:EST
DTSTART:20251102T060000
END:STANDARD
BEGIN:DAYLIGHT
TZOFFSETFROM:-0500
TZOFFSETTO:-0400
TZNAME:EDT
DTSTART:20260308T070000
END:DAYLIGHT
BEGIN:STANDARD
TZOFFSETFROM:-0400
TZOFFSETTO:-0500
TZNAME:EST
DTSTART:20261101T060000
END:STANDARD
END:VTIMEZONE
BEGIN:VEVENT
DTSTART;TZID=America/New_York:20251201T113000
DTEND;TZID=America/New_York:20251201T133000
DTSTAMP:20260420T012650
CREATED:20250610T221014Z
LAST-MODIFIED:20250610T221014Z
UID:4658-1764588600-1764595800@irb.upenn.edu
SUMMARY:IRB 1
DESCRIPTION:Video Conferencing/Human Research Protections Program Office of the Institutional Review Board 3600 Civic Center Blvd\, 9th Floor
URL:https://irb.upenn.edu/event/irb-1-35/
CATEGORIES:IRB Meetings
END:VEVENT
BEGIN:VEVENT
DTSTART;TZID=America/New_York:20251202T160000
DTEND;TZID=America/New_York:20251202T180000
DTSTAMP:20260420T012650
CREATED:20250610T221328Z
LAST-MODIFIED:20250610T221328Z
UID:4664-1764691200-1764698400@irb.upenn.edu
SUMMARY:IRB 6
DESCRIPTION:Video Conferencing/Cheston Conf. Room\, Pennsylvania Hospital
URL:https://irb.upenn.edu/event/irb-6-34/
CATEGORIES:IRB Meetings
END:VEVENT
BEGIN:VEVENT
DTSTART;TZID=America/New_York:20251203T110000
DTEND;TZID=America/New_York:20251203T130000
DTSTAMP:20260420T012650
CREATED:20250610T215452Z
LAST-MODIFIED:20250610T215452Z
UID:4628-1764759600-1764766800@irb.upenn.edu
SUMMARY:IRB 7
DESCRIPTION:Video Conferencing/Human Research Protections Program Office of the Institutional Review Board 3600 Civic Center Blvd\, 9th Floor
URL:https://irb.upenn.edu/event/irb-7-36/
CATEGORIES:IRB Meetings
END:VEVENT
BEGIN:VEVENT
DTSTART;TZID=America/New_York:20251208T120000
DTEND;TZID=America/New_York:20251208T140000
DTSTAMP:20260420T012650
CREATED:20250610T215217Z
LAST-MODIFIED:20250610T215217Z
UID:4622-1765195200-1765202400@irb.upenn.edu
SUMMARY:IRB 8
DESCRIPTION:Video Conferencing/Human Research Protections Program Office of the Institutional Review Board 3600 Civic Center Blvd\, 9th Floor
URL:https://irb.upenn.edu/event/irb-8-35/
CATEGORIES:IRB Meetings
END:VEVENT
BEGIN:VEVENT
DTSTART;TZID=America/New_York:20251209T104500
DTEND;TZID=America/New_York:20251209T124500
DTSTAMP:20260420T012650
CREATED:20250610T220211Z
LAST-MODIFIED:20250610T220211Z
UID:4640-1765277100-1765284300@irb.upenn.edu
SUMMARY:IRB 4
DESCRIPTION:Video Conferencing/Human Research Protections Program Office of the Institutional Review Board 3600 Civic Center Blvd\, 9th Floor
URL:https://irb.upenn.edu/event/irb-4-34/
CATEGORIES:IRB Meetings
END:VEVENT
BEGIN:VEVENT
DTSTART;TZID=America/New_York:20251209T120000
DTEND;TZID=America/New_York:20251209T140000
DTSTAMP:20260420T012650
CREATED:20250610T214903Z
LAST-MODIFIED:20250610T214903Z
UID:4616-1765281600-1765288800@irb.upenn.edu
SUMMARY:IRB 10
DESCRIPTION:Video Conferencing/Lancaster General Hospital 555 North Duke St Lancaster\, PA 17602
URL:https://irb.upenn.edu/event/irb-10-19/
CATEGORIES:IRB Meetings
END:VEVENT
BEGIN:VEVENT
DTSTART;TZID=America/New_York:20251212T100000
DTEND;TZID=America/New_York:20251212T120000
DTSTAMP:20260420T012650
CREATED:20250610T220444Z
LAST-MODIFIED:20250610T220444Z
UID:4646-1765533600-1765540800@irb.upenn.edu
SUMMARY:IRB 3
DESCRIPTION:Video Conferencing/Human Research Protections Program Office of the Institutional Review Board 3600 Civic Center Blvd\, 9th Floor
URL:https://irb.upenn.edu/event/irb-3-35/
CATEGORIES:IRB Meetings
END:VEVENT
BEGIN:VEVENT
DTSTART;TZID=America/New_York:20251217T120000
DTEND;TZID=America/New_York:20251217T140000
DTSTAMP:20260420T012650
CREATED:20250610T215855Z
LAST-MODIFIED:20250610T215855Z
UID:4634-1765972800-1765980000@irb.upenn.edu
SUMMARY:IRB 5
DESCRIPTION:Video Conferencing/Human Research Protections Program Office of the Institutional Review Board 3600 Civic Center Blvd\, 9th Floor
URL:https://irb.upenn.edu/event/irb-5-35/
CATEGORIES:IRB Meetings
END:VEVENT
BEGIN:VEVENT
DTSTART;TZID=America/New_York:20251218T114500
DTEND;TZID=America/New_York:20251218T134500
DTSTAMP:20260420T012650
CREATED:20250610T220735Z
LAST-MODIFIED:20250610T220735Z
UID:4652-1766058300-1766065500@irb.upenn.edu
SUMMARY:IRB 2
DESCRIPTION:Video Conferencing/Human Research Protections Program Office of the Institutional Review Board 3600 Civic Center Blvd\, 9th Floor
URL:https://irb.upenn.edu/event/irb-2-36/
CATEGORIES:IRB Meetings
END:VEVENT
END:VCALENDAR