BEGIN:VCALENDAR
VERSION:2.0
PRODID:-//Penn IRB - ECPv6.15.20//NONSGML v1.0//EN
CALSCALE:GREGORIAN
METHOD:PUBLISH
X-WR-CALNAME:Penn IRB
X-ORIGINAL-URL:https://irb.upenn.edu
X-WR-CALDESC:Events for Penn IRB
REFRESH-INTERVAL;VALUE=DURATION:PT1H
X-Robots-Tag:noindex
X-PUBLISHED-TTL:PT1H
BEGIN:VTIMEZONE
TZID:America/New_York
BEGIN:DAYLIGHT
TZOFFSETFROM:-0500
TZOFFSETTO:-0400
TZNAME:EDT
DTSTART:20230312T070000
END:DAYLIGHT
BEGIN:STANDARD
TZOFFSETFROM:-0400
TZOFFSETTO:-0500
TZNAME:EST
DTSTART:20231105T060000
END:STANDARD
BEGIN:DAYLIGHT
TZOFFSETFROM:-0500
TZOFFSETTO:-0400
TZNAME:EDT
DTSTART:20240310T070000
END:DAYLIGHT
BEGIN:STANDARD
TZOFFSETFROM:-0400
TZOFFSETTO:-0500
TZNAME:EST
DTSTART:20241103T060000
END:STANDARD
BEGIN:DAYLIGHT
TZOFFSETFROM:-0500
TZOFFSETTO:-0400
TZNAME:EDT
DTSTART:20250309T070000
END:DAYLIGHT
BEGIN:STANDARD
TZOFFSETFROM:-0400
TZOFFSETTO:-0500
TZNAME:EST
DTSTART:20251102T060000
END:STANDARD
END:VTIMEZONE
BEGIN:VEVENT
DTSTART;TZID=America/New_York:20240229T130000
DTEND;TZID=America/New_York:20240229T143000
DTSTAMP:20260424T030045
CREATED:20231004T182323Z
LAST-MODIFIED:20240209T175253Z
UID:3667-1709211600-1709217000@irb.upenn.edu
SUMMARY:Biomedical IRB 101
DESCRIPTION:Are you new to the IRB submissions process? Attend IRB 101! IRB staff will cover types of submissions including initials\, continuing reviews\, modifications\, and reportable events. We’ll also provide an overview of how to use the Human Subjects Research Application (eIRB) system to submit applications to the IRB. Any questions can be directed to Diana Floegel. Sign up for the sessions here.
URL:https://irb.upenn.edu/event/biomedical-irb-101-5/
LOCATION:Zoom
CATEGORIES:Educational Series
ORGANIZER;CN="Diana Floegel%2C PhD":MAILTO:floegeld@upenn.edu
END:VEVENT
END:VCALENDAR